BEGIN:VCALENDAR
VERSION:2.0
PRODID:GlueUp
CALSCALE:GREGORIAN
BEGIN:VTIMEZONE
TZID:UTC
BEGIN:STANDARD
DTSTART:19700101T000000
TZOFFSETFROM:+0000
TZOFFSETTO:+0000
TZNAME:UTC
END:STANDARD
END:VTIMEZONE
BEGIN:VEVENT
TZ:+00
ORGANIZER;CN=Miranda Matty:MAILTO:miranda.matty@britishchamber.cn
UID:36566-1776927998@https://britcham.glueup.cn
DTSTAMP:20260423T070638Z
DTSTART:20220617T063000Z
DTEND:20220617T083000Z
SUMMARY:2022 Annual General Meeting
DESCRIPTION:2022 Annual General Meeting by British Chamber of Commerce in China\n\nJun 17, 2022 (14:30 - 16:30)(GMT+8)\n\nFor more information, click here: https://britcham.glueup.cn/my/events/36566
LOCATION:HMA Residence - 15 Guanghua Lu - 100600 Beijing - China
BEGIN:VALARM
TRIGGER:-PT48H
REPEAT:4
DURATION:PT30M
ACTION:DISPLAY
END:VALARM
END:VEVENT
END:VCALENDAR