BEGIN:VCALENDAR
VERSION:2.0
PRODID:GlueUp
CALSCALE:GREGORIAN
BEGIN:VTIMEZONE
TZID:UTC
BEGIN:STANDARD
DTSTART:19700101T000000
TZOFFSETFROM:+0000
TZOFFSETTO:+0000
TZNAME:UTC
END:STANDARD
END:VTIMEZONE
BEGIN:VEVENT
TZ:+00
ORGANIZER;CN=Rachel Tsang:MAILTO:rachel.tsang@britishchamber.cn
UID:26410-1777146150@https://britcham.glueup.cn
DTSTAMP:20260425T194230Z
DTSTART:20200424T080000Z
DTEND:20200424T090000Z
SUMMARY:Quarantine Survival Map – how a British artist “maps” out the 14 days of home quarantine
DESCRIPTION:Quarantine Survival Map – how a British artist “maps” out the 14 days of home quarantine by British Chamber of Commerce in China\n\nApr 24, 2020 (16:00 - 17:00)(GMT+8)\n\nFor more information, click here: https://britcham.glueup.cn/my/events/26410
LOCATION:
BEGIN:VALARM
TRIGGER:-PT48H
REPEAT:4
DURATION:PT30M
ACTION:DISPLAY
END:VALARM
END:VEVENT
END:VCALENDAR