BEGIN:VCALENDAR
VERSION:2.0
PRODID:GlueUp
CALSCALE:GREGORIAN
BEGIN:VTIMEZONE
TZID:UTC
BEGIN:STANDARD
DTSTART:19700101T000000
TZOFFSETFROM:+0000
TZOFFSETTO:+0000
TZNAME:UTC
END:STANDARD
END:VTIMEZONE
BEGIN:VEVENT
TZ:+00
ORGANIZER;CN=Andrew Whitestone:MAILTO:andrew.whitestone@britishchamber.cn
UID:24092-1776795963@https://britcham.glueup.cn
DTSTAMP:20260421T182603Z
DTSTART:20191025T090000Z
DTEND:20191025T110000Z
SUMMARY:Comparative Developments in Australian and UK Higher Education
DESCRIPTION:Comparative Developments in Australian and UK Higher Education by British Chamber of Commerce in China\n\nOct 25, 2019 (17:00 - 19:00)(GMT+8)\n\nFor more information, click here: https://britcham.glueup.cn/my/events/24092
LOCATION:Four Seasons Hotel Beijing - Beijing - China
BEGIN:VALARM
TRIGGER:-PT48H
REPEAT:4
DURATION:PT30M
ACTION:DISPLAY
END:VALARM
END:VEVENT
END:VCALENDAR