BEGIN:VCALENDAR
VERSION:2.0
PRODID:GlueUp
CALSCALE:GREGORIAN
BEGIN:VTIMEZONE
TZID:UTC
BEGIN:STANDARD
DTSTART:19700101T000000
TZOFFSETFROM:+0000
TZOFFSETTO:+0000
TZNAME:UTC
END:STANDARD
END:VTIMEZONE
BEGIN:VEVENT
TZ:+00
ORGANIZER;CN=Andrew Whitestone:MAILTO:andrew.whitestone@britishchamber.cn
UID:22737-1777157453@https://britcham.glueup.cn
DTSTAMP:20260425T225053Z
DTSTART:20190705T060000Z
DTEND:20190705T080000Z
SUMMARY:Fieldfisher China GDPR & AI Seminar
DESCRIPTION:Fieldfisher China GDPR & AI Seminar by British Chamber of Commerce in China\n\nJul 5, 2019 (14:00 - 16:00)(GMT+8)\n\nFor more information, click here: https://britcham.glueup.cn/my/events/22737
LOCATION:The British Centre - 1001 China Life Tower - 16 Chaoyangmenwai Dajie Beijing - China
BEGIN:VALARM
TRIGGER:-PT48H
REPEAT:4
DURATION:PT30M
ACTION:DISPLAY
END:VALARM
END:VEVENT
END:VCALENDAR