BEGIN:VCALENDAR
VERSION:2.0
PRODID:GlueUp
CALSCALE:GREGORIAN
BEGIN:VTIMEZONE
TZID:UTC
BEGIN:STANDARD
DTSTART:19700101T000000
TZOFFSETFROM:+0000
TZOFFSETTO:+0000
TZNAME:UTC
END:STANDARD
END:VTIMEZONE
BEGIN:VEVENT
TZ:+00
ORGANIZER;CN=Rachel Tsang:MAILTO:rachel.tsang@britishchamber.cn
UID:31877-1776615987@https://britcham.glueup.cn
DTSTAMP:20260419T162627Z
DTSTART:20210520T093000Z
DTEND:20210520T113000Z
SUMMARY:How to address mental health in the workplace?
DESCRIPTION:How to address mental health in the workplace? by British Chamber of Commerce in China\n\nMay 20, 2021 (17:30 - 19:30)(GMT+8)\n\nFor more information, click here: https://britcham.glueup.cn/my/events/31877
LOCATION:Hotel Jen Beijing by Shangri-La 新国贸饭店 - Jianguomen Outer Street 1号 Beijing Shi - China
BEGIN:VALARM
TRIGGER:-PT48H
REPEAT:4
DURATION:PT30M
ACTION:DISPLAY
END:VALARM
END:VEVENT
END:VCALENDAR