BEGIN:VCALENDAR
VERSION:2.0
PRODID:GlueUp
CALSCALE:GREGORIAN
BEGIN:VTIMEZONE
TZID:UTC
BEGIN:STANDARD
DTSTART:19700101T000000
TZOFFSETFROM:+0000
TZOFFSETTO:+0000
TZNAME:UTC
END:STANDARD
END:VTIMEZONE
BEGIN:VEVENT
TZ:+00
ORGANIZER;CN=Rachel Tsang:MAILTO:rachel.tsang@britishchamber.cn
UID:43595-1776689465@https://britcham.glueup.cn
DTSTAMP:20260420T125105Z
DTSTART:20240419T070000Z
DTEND:20240419T100000Z
SUMMARY:Mach China: Discussing Next-Gen Mobility ahead of the Beijing Auto Show
DESCRIPTION:Mach China: Discussing Next-Gen Mobility ahead of the Beijing Auto Show by British Chamber of Commerce in China\n\nApr 19, 2024 (15:00 - 18:00)(GMT+8)\n\nFor more information, click here: https://britcham.glueup.cn/my/events/43595
LOCATION:China World Office 1 - L28，China World Office 1 - No.1 Jianguomenwai Ave - Beijing - 北京市建国门外大街1号国贸写字楼1座28层 Beijing - China
BEGIN:VALARM
TRIGGER:-PT48H
REPEAT:4
DURATION:PT30M
ACTION:DISPLAY
END:VALARM
END:VEVENT
END:VCALENDAR