BEGIN:VCALENDAR
VERSION:2.0
PRODID:GlueUp
CALSCALE:GREGORIAN
BEGIN:VTIMEZONE
TZID:UTC
BEGIN:STANDARD
DTSTART:19700101T000000
TZOFFSETFROM:+0000
TZOFFSETTO:+0000
TZNAME:UTC
END:STANDARD
END:VTIMEZONE
BEGIN:VEVENT
TZ:+00
ORGANIZER;CN=Kally Zhao:MAILTO:kally.zhao@britishchamber.cn
UID:49903-1776824102@https://britcham.glueup.cn
DTSTAMP:20260422T021502Z
DTSTART:20260425T103000Z
DTEND:20260425T153000Z
SUMMARY:St George's Day Gala Dinner
DESCRIPTION:St George's Day Gala Dinner by British Chamber of Commerce in China\n\nApr 25, 2026 (18:30 - 23:30)(GMT+8)\n\nFor more information, click here: https://britcham.glueup.cn/my/events/49903
LOCATION:Capital Club - 50F Capital Mansion，6 Xin Yuan Nan Road，Chaoyang District - Beijing - 北京市朝阳区新源南路6号京城大厦50层 Beijing
BEGIN:VALARM
TRIGGER:-PT48H
REPEAT:4
DURATION:PT30M
ACTION:DISPLAY
END:VALARM
END:VEVENT
END:VCALENDAR