BEGIN:VCALENDAR
VERSION:2.0
PRODID:GlueUp
CALSCALE:GREGORIAN
BEGIN:VTIMEZONE
TZID:UTC
BEGIN:STANDARD
DTSTART:19700101T000000
TZOFFSETFROM:+0000
TZOFFSETTO:+0000
TZNAME:UTC
END:STANDARD
END:VTIMEZONE
BEGIN:VEVENT
TZ:+00
ORGANIZER;CN=Rachel Tsang:MAILTO:rachel.tsang@britishchamber.cn
UID:28557-1776964542@https://britcham.glueup.cn
DTSTAMP:20260423T171542Z
DTSTART:20201107T103000Z
DTEND:20201107T200000Z
SUMMARY:The Beijing British Ball 2020
DESCRIPTION:The Beijing British Ball 2020 by British Chamber of Commerce in China\n\nNov 7 & 8, 2020(GMT+8)\n\nFor more information, click here: https://britcham.glueup.cn/my/events/28557
LOCATION:Kerry Hotel Beijing - Guanghua Road 1 Beijing Shi - China
BEGIN:VALARM
TRIGGER:-PT48H
REPEAT:4
DURATION:PT30M
ACTION:DISPLAY
END:VALARM
END:VEVENT
END:VCALENDAR